BEGIN:VCALENDAR
VERSION:2.0
PRODID:-//SALSA PATRON - ECPv6.15.20//NONSGML v1.0//EN
CALSCALE:GREGORIAN
METHOD:PUBLISH
X-ORIGINAL-URL:https://salsapatron.com
X-WR-CALDESC:Events for SALSA PATRON
REFRESH-INTERVAL;VALUE=DURATION:PT1H
X-Robots-Tag:noindex
X-PUBLISHED-TTL:PT1H
BEGIN:VTIMEZONE
TZID:Asia/Krasnoyarsk
BEGIN:STANDARD
TZOFFSETFROM:+0700
TZOFFSETTO:+0700
TZNAME:+07
DTSTART:20230101T000000
END:STANDARD
END:VTIMEZONE
BEGIN:VTIMEZONE
TZID:America/Denver
BEGIN:DAYLIGHT
TZOFFSETFROM:-0700
TZOFFSETTO:-0600
TZNAME:MDT
DTSTART:20240310T090000
END:DAYLIGHT
BEGIN:STANDARD
TZOFFSETFROM:-0600
TZOFFSETTO:-0700
TZNAME:MST
DTSTART:20241103T080000
END:STANDARD
BEGIN:DAYLIGHT
TZOFFSETFROM:-0700
TZOFFSETTO:-0600
TZNAME:MDT
DTSTART:20250309T090000
END:DAYLIGHT
BEGIN:STANDARD
TZOFFSETFROM:-0600
TZOFFSETTO:-0700
TZNAME:MST
DTSTART:20251102T080000
END:STANDARD
BEGIN:DAYLIGHT
TZOFFSETFROM:-0700
TZOFFSETTO:-0600
TZNAME:MDT
DTSTART:20260308T090000
END:DAYLIGHT
BEGIN:STANDARD
TZOFFSETFROM:-0600
TZOFFSETTO:-0700
TZNAME:MST
DTSTART:20261101T080000
END:STANDARD
BEGIN:DAYLIGHT
TZOFFSETFROM:-0700
TZOFFSETTO:-0600
TZNAME:MDT
DTSTART:20270314T090000
END:DAYLIGHT
BEGIN:STANDARD
TZOFFSETFROM:-0600
TZOFFSETTO:-0700
TZNAME:MST
DTSTART:20271107T080000
END:STANDARD
END:VTIMEZONE
BEGIN:VEVENT
DTSTART;TZID=Asia/Krasnoyarsk:20260419T100000
DTEND;TZID=Asia/Krasnoyarsk:20260419T140000
DTSTAMP:20260424T094353
CREATED:20260312T231639Z
LAST-MODIFIED:20260416T180800Z
UID:10000531-1776592800-1776607200@salsapatron.com
SUMMARY:Vistancia farmers market
DESCRIPTION:Vistancia farmers market 10-2 \n29701 N. Sunrise Point Peoria\nThird Sunday of each month
URL:https://salsapatron.com/event/vistancia-farmers-market-2-2/
LOCATION:Vistancia farmers market\, 29701 N. Sunrise Point\, Peoria\, AZ\, 85383\, United States
END:VEVENT
BEGIN:VEVENT
DTSTART;TZID=America/Denver:20260418T090000
DTEND;TZID=America/Denver:20260418T150000
DTSTAMP:20260424T094353
CREATED:20251022T162307Z
LAST-MODIFIED:20260416T180916Z
UID:10000538-1776502800-1776524400@salsapatron.com
SUMMARY:Sweet to the Soul Botique Peoria Sports Complex
DESCRIPTION:Sweet to the Soul Botique \nPeoria Sports Complex \n9am-3pm \n16101 N 83rd Ave \nPeoria 85382 \n 
URL:https://salsapatron.com/event/822/
END:VEVENT
BEGIN:VEVENT
DTSTART;TZID=America/Denver:20260417T080000
DTEND;TZID=America/Denver:20260417T170000
DTSTAMP:20260424T094353
CREATED:20260417T145605Z
LAST-MODIFIED:20260417T145605Z
UID:10000554-1776412800-1776445200@salsapatron.com
SUMMARY:New Stores! Capital Meats Wickenburg  Scottsdale Meat Market 2 locations Northsight and 32nd St and Indian School Rd
DESCRIPTION:Check out Capitol Meats in Wickenburg\, try an amazing smash burger! \nSCOTTSDALE Meats 2 locations \nScottsdale on Northsight and 32nd St & Indian School Rd
URL:https://salsapatron.com/event/new-stores-capital-meats-wickenburg-scottsdale-meat-market-2-locations-northsight-and-32nd-st-and-indian-school-rd/
END:VEVENT
BEGIN:VEVENT
DTSTART;TZID=America/Denver:20260412T100000
DTEND;TZID=America/Denver:20260412T130000
DTSTAMP:20260424T094353
CREATED:20260103T062353Z
LAST-MODIFIED:20260331T035516Z
UID:10000549-1775988000-1775998800@salsapatron.com
SUMMARY:Westbrook Village 2nd Sunday 18825North Country Club Parkway Peoria 85253
DESCRIPTION:Westbrook Village market 10-1 Second Sunday of the month \n18825 North Country Club Parkway Peoria
URL:https://salsapatron.com/event/westbrook-village-2nd-sunday-18825north-country-club-parkway-peoria-85253/
END:VEVENT
BEGIN:VEVENT
DTSTART;TZID=America/Denver:20260412T090000
DTEND;TZID=America/Denver:20260412T130000
DTSTAMP:20260424T094353
CREATED:20241108T035717Z
LAST-MODIFIED:20260412T032139Z
UID:10000509-1775984400-1775998800@salsapatron.com
SUMMARY:Sonoran Foothills second Sunday 10-2  31910 N Foothills Drive Phx 85085
DESCRIPTION:Second Sunday \n10-2 \nSonoran Foothills Recreation center \n31910 N Foothills Drive \nPhx  85085
URL:https://salsapatron.com/event/sonoran-foothills-second-sunday-10-2-31910-n-foothills-drive-phx-85085/
END:VEVENT
BEGIN:VEVENT
DTSTART;TZID=Asia/Krasnoyarsk:20260410T090000
DTEND;TZID=Asia/Krasnoyarsk:20260410T130000
DTSTAMP:20260424T094353
CREATED:20241031T232803Z
LAST-MODIFIED:20260406T180730Z
UID:10000516-1775811600-1775826000@salsapatron.com
SUMMARY:Lord of Life Lutheran Church
DESCRIPTION:  \n  \nRH Johnson and Meeker Blvd\nLord of Life Lutheran Church\nFridays 9-1 Summer hours
URL:https://salsapatron.com/event/lord-of-life-lutheran-church-4-2/
LOCATION:Lord of Life Lutheran Church\, 13724 W Meeker Blvd\, Sun City West\, AZ 85375\, Sun City West\, AZ\, 85375\, United States
END:VEVENT
BEGIN:VEVENT
DTSTART;TZID=America/Denver:20260404T090000
DTEND;TZID=America/Denver:20260404T130000
DTSTAMP:20260424T094353
CREATED:20260216T160603Z
LAST-MODIFIED:20260325T000953Z
UID:10000553-1775293200-1775307600@salsapatron.com
SUMMARY:Estrella Community College Market
DESCRIPTION:Saturdays 9-1 \n3000 N Dysart Rd. \nAvondale 85392 \nEstrella Community College
URL:https://salsapatron.com/event/estrella-community-college-market/
END:VEVENT
BEGIN:VEVENT
DTSTART;TZID=Asia/Krasnoyarsk:20260301T100000
DTEND;TZID=Asia/Krasnoyarsk:20260301T140000
DTSTAMP:20260424T094353
CREATED:20241215T043607Z
LAST-MODIFIED:20260225T170446Z
UID:10000481-1772359200-1772373600@salsapatron.com
SUMMARY:Mcdowell Mountain Ranch 10607 E Paradise Ln Scottsdale
DESCRIPTION:
URL:https://salsapatron.com/event/mcdowell-mountain-ranch-10607-e-paradise-ln-scottsdale-2-2/
END:VEVENT
BEGIN:VEVENT
DTSTART;TZID=America/Denver:20260225T160000
DTEND;TZID=America/Denver:20260225T190000
DTSTAMP:20260424T094353
CREATED:20260103T080901Z
LAST-MODIFIED:20260218T222810Z
UID:10000551-1772035200-1772046000@salsapatron.com
SUMMARY:Sterling Grove Golf & Country Club 11440 Greenwhich Blvd Surprise 85388 **POSTPONED TO 2/25**
DESCRIPTION:Event postponed to 2/25 die to weather
URL:https://salsapatron.com/event/sterling-grove-country-club-11440-greenwhich-blvd-surprise-85388/
END:VEVENT
BEGIN:VEVENT
DTSTART;TZID=America/Denver:20260213T170000
DTEND;TZID=America/Denver:20260213T200000
DTSTAMP:20260424T094353
CREATED:20260211T025126Z
LAST-MODIFIED:20260211T025408Z
UID:10000552-1771002000-1771012800@salsapatron.com
SUMMARY:Valentine's Celebration 4730 E Lone Mountain Rd
DESCRIPTION:Friday 5-8 pm \n4730 E Lone Mountain Road suite 110 \nCave Creek
URL:https://salsapatron.com/event/valentines-celebration/
END:VEVENT
BEGIN:VEVENT
DTSTART;TZID=America/Denver:20260204T100000
DTEND;TZID=America/Denver:20260204T130000
DTSTAMP:20260424T094353
CREATED:20251009T210355Z
LAST-MODIFIED:20260123T021023Z
UID:10000544-1770199200-1770210000@salsapatron.com
SUMMARY:Sun City Festival
DESCRIPTION:Sun City Festival \nBe sure to come try the new Summer Salsa featuring Cool refreshing cucumbers and avocado! \n  \nAlternate Wednesdays \n**26285 W Morrow Drive** New Address \nBuckeye AZ 85396
URL:https://salsapatron.com/event/sun-city-festival-3-2-4/2026-02-04/
END:VEVENT
BEGIN:VEVENT
DTSTART;TZID=America/Denver:20260121T100000
DTEND;TZID=America/Denver:20260121T130000
DTSTAMP:20260424T094353
CREATED:20251009T210355Z
LAST-MODIFIED:20260123T021023Z
UID:10000543-1768989600-1769000400@salsapatron.com
SUMMARY:Sun City Festival
DESCRIPTION:Sun City Festival \nBe sure to come try the new Summer Salsa featuring Cool refreshing cucumbers and avocado! \n  \nAlternate Wednesdays \n**26285 W Morrow Drive** New Address \nBuckeye AZ 85396
URL:https://salsapatron.com/event/sun-city-festival-3-2-4/2026-01-21/
END:VEVENT
BEGIN:VEVENT
DTSTART;TZID=Asia/Krasnoyarsk:20260118T100000
DTEND;TZID=Asia/Krasnoyarsk:20260118T140000
DTSTAMP:20260424T094353
CREATED:20240411T234742Z
LAST-MODIFIED:20260123T020350Z
UID:10000533-1768730400-1768744800@salsapatron.com
SUMMARY:Vistancia farmers market
DESCRIPTION:Vistancia farmers market 10-2 \n29701 N. Sunrise Point Peoria\nThird Sunday of each month\nOct. 19\, 2025\nNov. 16\, 2025\nDec. 21\, 2025
URL:https://salsapatron.com/event/vistancia-farmers-market-2/2026-01-18/
LOCATION:Vistancia farmers market\, 29701 N. Sunrise Point\, Peoria\, AZ\, 85383\, United States
END:VEVENT
BEGIN:VEVENT
DTSTART;TZID=Asia/Krasnoyarsk:20251221T100000
DTEND;TZID=Asia/Krasnoyarsk:20251221T140000
DTSTAMP:20260424T094353
CREATED:20240411T234742Z
LAST-MODIFIED:20260123T020350Z
UID:10000530-1766311200-1766325600@salsapatron.com
SUMMARY:Vistancia farmers market
DESCRIPTION:Vistancia farmers market 10-2 \n29701 N. Sunrise Point Peoria\nThird Sunday of each month\nOct. 19\, 2025\nNov. 16\, 2025\nDec. 21\, 2025
URL:https://salsapatron.com/event/vistancia-farmers-market-2/2025-12-21/2/
LOCATION:Vistancia farmers market\, 29701 N. Sunrise Point\, Peoria\, AZ\, 85383\, United States
END:VEVENT
BEGIN:VEVENT
DTSTART;TZID=Asia/Krasnoyarsk:20251221T090000
DTEND;TZID=Asia/Krasnoyarsk:20251221T130000
DTSTAMP:20260424T094353
CREATED:20240411T234742Z
LAST-MODIFIED:20260123T020350Z
UID:10000532-1766307600-1766322000@salsapatron.com
SUMMARY:Vistancia farmers market
DESCRIPTION:Vistancia farmers market 10-2 \n29701 N. Sunrise Point Peoria\nThird Sunday of each month\nOct. 19\, 2025\nNov. 16\, 2025\nDec. 21\, 2025
URL:https://salsapatron.com/event/vistancia-farmers-market-2/2025-12-21/1/
LOCATION:Vistancia farmers market\, 29701 N. Sunrise Point\, Peoria\, AZ\, 85383\, United States
END:VEVENT
BEGIN:VEVENT
DTSTART;TZID=America/Denver:20251206T090000
DTEND;TZID=America/Denver:20251206T130000
DTSTAMP:20260424T094353
CREATED:20251204T204220Z
LAST-MODIFIED:20251204T204220Z
UID:10000548-1765011600-1765026000@salsapatron.com
SUMMARY:Vistancia Holiday Vendor Event
DESCRIPTION:Come shop with us! Get loaded up on your Salsa Patron\, come try the sensational seasonal Cranberry Jalepeno Salsa! \n29701 Sunrise Point \nPeoria
URL:https://salsapatron.com/event/vistancia-holiday-vendor-event/
END:VEVENT
BEGIN:VEVENT
DTSTART;TZID=America/Denver:20251204T100000
DTEND;TZID=America/Denver:20251204T130000
DTSTAMP:20260424T094353
CREATED:20251022T161613Z
LAST-MODIFIED:20251203T012851Z
UID:10000545-1764842400-1764853200@salsapatron.com
SUMMARY:
DESCRIPTION: 
URL:https://salsapatron.com/event/litchfield-park-alternate-thursdays/2025-12-04/
END:VEVENT
BEGIN:VEVENT
DTSTART;TZID=Asia/Krasnoyarsk:20250830T090000
DTEND;TZID=Asia/Krasnoyarsk:20250830T130000
DTSTAMP:20260424T094353
CREATED:20250711T042035Z
LAST-MODIFIED:20250806T020844Z
UID:10000529-1756544400-1756558800@salsapatron.com
SUMMARY:Munds Park Famers Market
DESCRIPTION:
URL:https://salsapatron.com/event/munds-park-famers-market-2-2/2025-08-30/
LOCATION:Munds Park Farmers Market
END:VEVENT
BEGIN:VEVENT
DTSTART;TZID=Asia/Krasnoyarsk:20250823T090000
DTEND;TZID=Asia/Krasnoyarsk:20250823T130000
DTSTAMP:20260424T094353
CREATED:20250711T042035Z
LAST-MODIFIED:20250806T020844Z
UID:10000528-1755939600-1755954000@salsapatron.com
SUMMARY:Munds Park Famers Market
DESCRIPTION:
URL:https://salsapatron.com/event/munds-park-famers-market-2-2/2025-08-23/
LOCATION:Munds Park Farmers Market
END:VEVENT
BEGIN:VEVENT
DTSTART;TZID=Asia/Krasnoyarsk:20250816T090000
DTEND;TZID=Asia/Krasnoyarsk:20250816T130000
DTSTAMP:20260424T094353
CREATED:20250711T042035Z
LAST-MODIFIED:20250806T020844Z
UID:10000527-1755334800-1755349200@salsapatron.com
SUMMARY:Munds Park Famers Market
DESCRIPTION:
URL:https://salsapatron.com/event/munds-park-famers-market-2-2/2025-08-16/
LOCATION:Munds Park Farmers Market
END:VEVENT
BEGIN:VEVENT
DTSTART;TZID=Asia/Krasnoyarsk:20250809T090000
DTEND;TZID=Asia/Krasnoyarsk:20250809T130000
DTSTAMP:20260424T094353
CREATED:20250711T042035Z
LAST-MODIFIED:20250806T020844Z
UID:10000526-1754730000-1754744400@salsapatron.com
SUMMARY:Munds Park Famers Market
DESCRIPTION:
URL:https://salsapatron.com/event/munds-park-famers-market-2-2/2025-08-09/
LOCATION:Munds Park Farmers Market
END:VEVENT
BEGIN:VEVENT
DTSTART;TZID=Asia/Krasnoyarsk:20250510T180000
DTEND;TZID=Asia/Krasnoyarsk:20250510T210000
DTSTAMP:20260424T094353
CREATED:20230915T223929Z
LAST-MODIFIED:20250506T184949Z
UID:10000048-1746900000-1746910800@salsapatron.com
SUMMARY:Park West
DESCRIPTION:Park West 9-1\n\n99th Ave and Northern\nbehind Cold Beers and Cheeseburgers
URL:https://salsapatron.com/event/park-west-3-2/
LOCATION:Park West\, 9744 W Northern Ave\, Peoria\, AZ\, 85345
END:VEVENT
BEGIN:VEVENT
DTSTART;TZID=Asia/Krasnoyarsk:20250419T090000
DTEND;TZID=Asia/Krasnoyarsk:20250419T130000
DTSTAMP:20260424T094353
CREATED:20230623T123829Z
LAST-MODIFIED:20260116T015804Z
UID:10000121-1745053200-1745067600@salsapatron.com
SUMMARY:Arrowhead farmers market
DESCRIPTION:Arrowhead farmers market
URL:https://salsapatron.com/event/arrowhead-farmers-market-5/
LOCATION:Arrowhead Farmers Market\, 7780 W Arrowhead Towne Cente\, Glendale\, AZ\, 85308
END:VEVENT
BEGIN:VEVENT
DTSTART;VALUE=DATE:20250418
DTEND;VALUE=DATE:20250419
DTSTAMP:20260424T094353
CREATED:20250312T045006Z
LAST-MODIFIED:20250417T052432Z
UID:10000520-1744934400-1745020799@salsapatron.com
SUMMARY:Arte Agave Az Tequila Tasting The Clayton House Scottsdale Friday April 18th 6-10 pm
DESCRIPTION:3719 N 75th Street #100 Scottsdale \nFriday April 18th 6-10 pm \nVist arteagave.com for tickets. \nScore a discount on tickets using SALSAPATRONfor coupon code
URL:https://salsapatron.com/event/new-new-new-4140-n-miller-road/
END:VEVENT
BEGIN:VEVENT
DTSTART;TZID=Asia/Krasnoyarsk:20250412T090000
DTEND;TZID=Asia/Krasnoyarsk:20250412T130000
DTSTAMP:20260424T094353
CREATED:20240411T235516Z
LAST-MODIFIED:20250310T143817Z
UID:10000518-1744448400-1744462800@salsapatron.com
SUMMARY:GCS Farmers market 9-1 The Holland Center  34250 N 60th St Scottsdale h
DESCRIPTION:GCS Farmers Market\n\nThe Holland Center Carefree \n60th Street South of Carefree Hwy \nSecond Saturdays November through April \n9am-1pm \n34250 N 60th St Scottsdale
URL:https://salsapatron.com/event/gcs-farmers-market-9-1-the-holland-center/
END:VEVENT
BEGIN:VEVENT
DTSTART;TZID=America/Denver:20250319T100000
DTEND;TZID=America/Denver:20250319T130000
DTSTAMP:20260424T094353
CREATED:20250213T142134Z
LAST-MODIFIED:20250310T143618Z
UID:10000511-1742378400-1742389200@salsapatron.com
SUMMARY:Sun City Festival
DESCRIPTION:Sun City Festival \n10-1 \nAlternate Wednesdays \n26415 West Deset Vista Blvd. \nBuckeye AZ 85396
URL:https://salsapatron.com/event/sun-city-festival-3-3/
END:VEVENT
BEGIN:VEVENT
DTSTART;TZID=Asia/Krasnoyarsk:20250308T090000
DTEND;TZID=Asia/Krasnoyarsk:20250308T130000
DTSTAMP:20260424T094353
CREATED:20241229T030822Z
LAST-MODIFIED:20250304T170750Z
UID:10000462-1741424400-1741438800@salsapatron.com
SUMMARY:GCS Farmers market 9-1 The Holland Center  34250 N 60th St Scottsdale h
DESCRIPTION:GCS Farmers Market\n\nThe Holland Center Carefree \n60th Street South of Carefree Hwy \nSecond Saturdays November through April \n9am-1pm \n34250 N 60th St Scottsdale
URL:https://salsapatron.com/event/gcs-farmers-market-9-1-the-holland-center-2/
END:VEVENT
BEGIN:VEVENT
DTSTART;TZID=Asia/Krasnoyarsk:20250104T090000
DTEND;TZID=Asia/Krasnoyarsk:20250104T090000
DTSTAMP:20260424T094353
CREATED:20241031T232935Z
LAST-MODIFIED:20251121T045231Z
UID:10000513-1735981200-1735981200@salsapatron.com
SUMMARY:Arrowhead farmers market
DESCRIPTION:Arrowhead farmers market \nAt Dream City Church \n75th Ave North of the 101
URL:https://salsapatron.com/event/arrowhead-farmers-market-5-2/
LOCATION:Arrowhead Farmers Market\, 7780 W Arrowhead Towne Cente\, Glendale\, AZ\, 85308
END:VEVENT
BEGIN:VEVENT
DTSTART;TZID=Asia/Krasnoyarsk:20241220T090000
DTEND;TZID=Asia/Krasnoyarsk:20241220T140000
DTSTAMP:20260424T094353
CREATED:20241118T023529Z
LAST-MODIFIED:20241215T043223Z
UID:10000515-1734685200-1734703200@salsapatron.com
SUMMARY:Lord of Life Lutheran Church
DESCRIPTION:Friday Sept 30 \n10am – 2pm \nRH Johnson and Meeker Blvd\nLord of Life Lutheran Church
URL:https://salsapatron.com/event/lord-of-life-lutheran-church-4-2-2/
LOCATION:Lord of Life Lutheran Church\, 13724 W Meeker Blvd\, Sun City West\, AZ 85375\, Sun City West\, AZ\, 85375\, United States
END:VEVENT
BEGIN:VEVENT
DTSTART;TZID=Asia/Krasnoyarsk:20241123T090000
DTEND;TZID=Asia/Krasnoyarsk:20241123T130000
DTSTAMP:20260424T094353
CREATED:20240427T120217Z
LAST-MODIFIED:20241003T030059Z
UID:10000197-1732352400-1732366800@salsapatron.com
SUMMARY:Troub's Meat 2 Year Anniversary Party 13681 N Litchfield Road 9-2
DESCRIPTION:Saturday 11/23\n\n\nTroubs Meats Suprise \nParking Lot Party \n 
URL:https://salsapatron.com/event/troubs-meat-1-year-anniversary-party-13681-n-litchfield-road-9-2/
END:VEVENT
END:VCALENDAR