BEGIN:VCALENDAR
VERSION:2.0
PRODID:-//SALSA PATRON - ECPv6.15.20//NONSGML v1.0//EN
CALSCALE:GREGORIAN
METHOD:PUBLISH
X-WR-CALNAME:SALSA PATRON
X-ORIGINAL-URL:https://salsapatron.com
X-WR-CALDESC:Events for SALSA PATRON
REFRESH-INTERVAL;VALUE=DURATION:PT1H
X-Robots-Tag:noindex
X-PUBLISHED-TTL:PT1H
BEGIN:VTIMEZONE
TZID:America/Denver
BEGIN:DAYLIGHT
TZOFFSETFROM:-0700
TZOFFSETTO:-0600
TZNAME:MDT
DTSTART:20250309T090000
END:DAYLIGHT
BEGIN:STANDARD
TZOFFSETFROM:-0600
TZOFFSETTO:-0700
TZNAME:MST
DTSTART:20251102T080000
END:STANDARD
BEGIN:DAYLIGHT
TZOFFSETFROM:-0700
TZOFFSETTO:-0600
TZNAME:MDT
DTSTART:20260308T090000
END:DAYLIGHT
BEGIN:STANDARD
TZOFFSETFROM:-0600
TZOFFSETTO:-0700
TZNAME:MST
DTSTART:20261101T080000
END:STANDARD
BEGIN:DAYLIGHT
TZOFFSETFROM:-0700
TZOFFSETTO:-0600
TZNAME:MDT
DTSTART:20270314T090000
END:DAYLIGHT
BEGIN:STANDARD
TZOFFSETFROM:-0600
TZOFFSETTO:-0700
TZNAME:MST
DTSTART:20271107T080000
END:STANDARD
END:VTIMEZONE
BEGIN:VTIMEZONE
TZID:Asia/Krasnoyarsk
BEGIN:STANDARD
TZOFFSETFROM:+0700
TZOFFSETTO:+0700
TZNAME:+07
DTSTART:20250101T000000
END:STANDARD
END:VTIMEZONE
BEGIN:VEVENT
DTSTART;TZID=America/Denver:20260116T100000
DTEND;TZID=America/Denver:20260430T170000
DTSTAMP:20260424T063020
CREATED:20260103T062842Z
LAST-MODIFIED:20260331T035704Z
UID:10000550-1768557600-1777568400@salsapatron.com
SUMMARY:Shop at a locally owned butcher shop near you. Visit #www.salsapatron.com for details
DESCRIPTION:Various butcher shops in the valley hours vary by location. Visit www.salsapatron.com to find a great shop near you for Salsa Patron purchases. \n*Scottsdale Meat Market-NEW \n 
URL:https://salsapatron.com/event/shop-at-a-locslly-owned-butcher-shop-near-you-visit-www-salsapatron-com-for-details/
END:VEVENT
BEGIN:VEVENT
DTSTART;TZID=Asia/Krasnoyarsk:20260425T090000
DTEND;TZID=Asia/Krasnoyarsk:20260425T130000
DTSTAMP:20260424T063020
CREATED:20241204T051034Z
LAST-MODIFIED:20260423T193847Z
UID:10000514-1777107600-1777122000@salsapatron.com
SUMMARY:Arrowhead farmers market Moving to DREAM CITY CURCH 2100O N 75TH AVE
DESCRIPTION:Dream City Curch \n21000 N 75th Ave Glendale\, AZ 85308 \nSaturdays 9-1
URL:https://salsapatron.com/event/arrowhead-farmers-market-5-2-2/
LOCATION:Arrowhead Farmers Market\, 7780 W Arrowhead Towne Cente\, Glendale\, AZ\, 85308
END:VEVENT
BEGIN:VEVENT
DTSTART;TZID=America/Denver:20260425T100000
DTEND;TZID=America/Denver:20260425T130000
DTSTAMP:20260424T063020
CREATED:20251121T044815Z
LAST-MODIFIED:20260417T144855Z
UID:10000547-1777111200-1777122000@salsapatron.com
SUMMARY:Cave Creek Farmers Market. 4250 E Carefree Hwy.
DESCRIPTION:Fourth Saturday of the month \n4250 E Carefree Hwy \n10am-1pm
URL:https://salsapatron.com/event/cave-creek-farmers-market/
END:VEVENT
BEGIN:VEVENT
DTSTART;TZID=America/Denver:20260430T100000
DTEND;TZID=America/Denver:20260430T130000
DTSTAMP:20260424T063020
CREATED:20241209T235818Z
LAST-MODIFIED:20260417T145039Z
UID:10000524-1777543200-1777554000@salsapatron.com
SUMMARY:Sun City Festival
DESCRIPTION:Sun City Festival \nBe sure to come try the new Summer Salsa featuring Cool refreshing cucumbers and avocado! \n9-11am INDOORS \nAlternate Wednesdays \n**26285 W Morrow Drive** New Address \nBuckeye AZ 85396
URL:https://salsapatron.com/event/sun-city-festival-3-2/
END:VEVENT
BEGIN:VEVENT
DTSTART;TZID=Asia/Krasnoyarsk:20260516T090000
DTEND;TZID=Asia/Krasnoyarsk:20260516T130000
DTSTAMP:20260424T063020
CREATED:20250506T184847Z
LAST-MODIFIED:20260416T180536Z
UID:10000521-1778922000-1778936400@salsapatron.com
SUMMARY:Munds Park Famers Market
DESCRIPTION:
URL:https://salsapatron.com/event/munds-park-famers-market-2/
LOCATION:Munds Park Farmers Market
END:VEVENT
END:VCALENDAR